BEGIN:VCALENDAR
VERSION:2.0
PRODID: -//Q4 Inc.//EN
METHOD:PUBLISH
BEGIN:VTIMEZONE
TZID:America/New_York
X-LIC-LOCATION:America/New_York
BEGIN:DAYLIGHT
TZOFFSETFROM:-0500
TZOFFSETTO:-0400
TZNAME:EDT
DTSTART:19700308T020000
RRULE:FREQ=YEARLY;BYMONTH=3;BYDAY=2SU
END:DAYLIGHT
BEGIN:STANDARD
TZOFFSETFROM:-0400
TZOFFSETTO:-0500
TZNAME:EST
DTSTART:19701101T020000
RRULE:FREQ=YEARLY;BYMONTH=11;BYDAY=1SU
END:STANDARD
END:VTIMEZONE
BEGIN:VEVENT
ORGANIZER:MAILTO:investor_relations@mailer.agilent.com
DTSTART;TZID="America/New_York":20250827T163000
DTEND;TZID="America/New_York":20250827T173000
LOCATION:
UID:f023d69f-81a6-46cb-a34b-559780b82760
DTSTAMP:20260425T125403
SUMMARY:Q3 2025 Agilent Technologies Inc. Earnings Conference Call
DESCRIPTION: View More Information: https://www.investor.agilent.com/news-and-events/events/event-details/2025/Q3-2025-Agilent-Technologies-Inc-Earnings-Conference-Call/default.aspx
URL;VALUE=URI:https://www.investor.agilent.com/news-and-events/events/event-details/2025/Q3-2025-Agilent-Technologies-Inc-Earnings-Conference-Call/default.aspx
PRIORITY:5
CLASS:PUBLIC
END:VEVENT
END:VCALENDAR
