BEGIN:VCALENDAR
VERSION:2.0
PRODID: -//Q4 Inc.//EN
METHOD:PUBLISH
BEGIN:VTIMEZONE
TZID:America/New_York
X-LIC-LOCATION:America/New_York
BEGIN:DAYLIGHT
TZOFFSETFROM:-0500
TZOFFSETTO:-0400
TZNAME:EDT
DTSTART:19700308T020000
RRULE:FREQ=YEARLY;BYMONTH=3;BYDAY=2SU
END:DAYLIGHT
BEGIN:STANDARD
TZOFFSETFROM:-0400
TZOFFSETTO:-0500
TZNAME:EST
DTSTART:19701101T020000
RRULE:FREQ=YEARLY;BYMONTH=11;BYDAY=1SU
END:STANDARD
END:VTIMEZONE
BEGIN:VEVENT
ORGANIZER:MAILTO:investor_relations@mailer.agilent.com
DTSTART;TZID="America/New_York":20200114T173000
DTEND;TZID="America/New_York":20200114T183000
LOCATION:The Westin St. Francis Hotel, San Francisco, California
UID:b10553e7-4ab5-496f-9e3f-5facf1d905d2
DTSTAMP:20260422T194335
SUMMARY:38th Annual J.P. Morgan Healthcare Conference
DESCRIPTION: View More Information: https://www.investor.agilent.com/news-and-events/events/event-details/2020/38th-Annual-JP-Morgan-Healthcare-Conference/default.aspx
URL;VALUE=URI:https://www.investor.agilent.com/news-and-events/events/event-details/2020/38th-Annual-JP-Morgan-Healthcare-Conference/default.aspx
PRIORITY:5
CLASS:PUBLIC
END:VEVENT
END:VCALENDAR
